BEGIN:VCALENDAR
VERSION:2.0
PRODID:-//Kofferweltentheater - ECPv6.15.20//NONSGML v1.0//EN
CALSCALE:GREGORIAN
METHOD:PUBLISH
X-ORIGINAL-URL:https://kofferweltentheater.de
X-WR-CALDESC:Veranstaltungen für Kofferweltentheater
REFRESH-INTERVAL;VALUE=DURATION:PT1H
X-Robots-Tag:noindex
X-PUBLISHED-TTL:PT1H
BEGIN:VTIMEZONE
TZID:UTC
BEGIN:STANDARD
TZOFFSETFROM:+0000
TZOFFSETTO:+0000
TZNAME:UTC
DTSTART:20210101T000000
END:STANDARD
END:VTIMEZONE
BEGIN:VEVENT
DTSTART;TZID=UTC:20220827T164500
DTEND;TZID=UTC:20220827T171500
DTSTAMP:20260423T040540
CREATED:20220321T202416Z
LAST-MODIFIED:20220707T214728Z
UID:1066-1661618700-1661620500@kofferweltentheater.de
SUMMARY:Auf der Suche nach einer gemeinsamen Welt
DESCRIPTION:Ein Theaterstück nach „Leo und Zoe“ von Dominique Falda \n\n\n\n\n\nZwei Menschen treten an verschiedenen Enden der Welt ins Leben. Leo ist ein Sonnenkind und glücklich über alles\, was der Augenblick enthält. Dieses Glück verbreitet er\, wo er hinkommt. Zoe\, am anderen Ende der Welt\, ein Kind des Mondes. Über ihr hängt immer eine Tränenwolke\, mit der sie aber den einsamen Löwen vor dem Verdursten rettet. \n\n\n\nBeide sind füreinander bestimmt. Und beide werden zueinander finden. \n\n\n\nEine Geschichte\, deren einfache Schönheit in unserer augenblicklichen Zerrissenheit tröstet. \n\n\n\n\n\n\n\nMit Witz und Akrobatik werden hier große und kleine Gäste in die Bilderbuchwelt hineingezogen. \n\n\n\n\n\n\n\nSpielort: Ruhrstraße\, Wiese an der Lärmschutzwand \n\n\n\n\n\n\n\nFlyer der Veranstaltung zum download: \n\n\n\nFlyer-Welttheater-der-Strasse-2022\n\n\n\n\n\n\n\nInformationen zur Veranstaltung unter:
URL:https://kofferweltentheater.de/terminkalender/auf-der-suche-nach-einer-gemeinsamen-welt/
LOCATION:Schwerte\, Schwerte\, Deutschland
ATTACH;FMTTYPE=image/jpeg:https://kofferweltentheater.de/wp-content/uploads/2022/04/Our-idea-e1657230186268.jpg
END:VEVENT
BEGIN:VEVENT
DTSTART;TZID=UTC:20220828T161500
DTEND;TZID=UTC:20220828T164500
DTSTAMP:20260423T040540
CREATED:20220510T064219Z
LAST-MODIFIED:20220707T214640Z
UID:1371-1661703300-1661705100@kofferweltentheater.de
SUMMARY:Auf der Suche nach einer gemeinsamen Welt
DESCRIPTION:Ein Theaterstück nach „Leo und Zoe“ von Dominique Falda \n\n\n\n\n \n\n\n\n\n\n\nZwei Menschen treten an verschiedenen Enden der Welt ins Leben. Leo ist ein Sonnenkind und glücklich über alles\, was der Augenblick enthält. Dieses Glück verbreitet er\, wo er hinkommt. Zoe\, am anderen Ende der Welt\, ein Kind des Mondes. Über ihr hängt immer eine Tränenwolke\, mit der sie aber den einsamen Löwen vor dem Verdursten rettet. \n\n\n\nBeide sind füreinander bestimmt. Und beide werden zueinander finden. \n\n\n\nEine Geschichte\, deren einfache Schönheit in unserer augenblicklichen Zerrissenheit tröstet. \n\n\n\n\n\n\n\nMit Witz und Akrobatik werden hier große und kleine Gäste in die Bilderbuchwelt hineingezogen. \n\n\n\n\n\n\n\nSpielort: Ruhrstaße\, Wiese an der Lärmschutzwand \n\n\n\n\n\n\n\nFlyer der Veranstaltung zum download: \n\n\n\nFlyer-Welttheater-der-Strasse-2022 \n\n\n\n\n\n\n\nInformationen zur Veranstaltung unter:
URL:https://kofferweltentheater.de/terminkalender/ein-theaterstueck-nach-leo-und-zoe-von-dominique-falda/
LOCATION:Schwerte\, Schwerte\, Deutschland
ATTACH;FMTTYPE=image/jpeg:https://kofferweltentheater.de/wp-content/uploads/2022/04/Our-idea-e1657230186268.jpg
END:VEVENT
END:VCALENDAR