BEGIN:VCALENDAR
VERSION:2.0
PRODID:-//Kofferweltentheater - ECPv6.15.20//NONSGML v1.0//EN
CALSCALE:GREGORIAN
METHOD:PUBLISH
X-WR-CALNAME:Kofferweltentheater
X-ORIGINAL-URL:https://kofferweltentheater.de
X-WR-CALDESC:Veranstaltungen für Kofferweltentheater
REFRESH-INTERVAL;VALUE=DURATION:PT1H
X-Robots-Tag:noindex
X-PUBLISHED-TTL:PT1H
BEGIN:VTIMEZONE
TZID:UTC
BEGIN:STANDARD
TZOFFSETFROM:+0000
TZOFFSETTO:+0000
TZNAME:UTC
DTSTART:20210101T000000
END:STANDARD
END:VTIMEZONE
BEGIN:VEVENT
DTSTART;TZID=UTC:20220619T160000
DTEND;TZID=UTC:20220619T180000
DTSTAMP:20260423T065511
CREATED:20220211T123124Z
LAST-MODIFIED:20220612T194209Z
UID:1056-1655654400-1655661600@kofferweltentheater.de
SUMMARY:Schlafen Fische? ->Entfällt
DESCRIPTION:Termin entfällt \n\n\n\n\n\n\n\nEin Theaterstück für Menschen ab 10 Jahren  \n\n\n\nJette ist gerade 10 Jahre alt geworden\, das nennt man zweistellig. Ein Jahr nach dem Tod ihres Bruders Emil\, erinnert sie sich zurück.Wie sind die Erwachsenen mit dem Tod des kleinen Emil umgegangen? \n\n\n\nWas bedeutet es überhaupt Tod zu sein und was passiert mit uns wenn wir Tod sind? \n\n\n\nJette wirft Fragen auf und findet im Laufe des Stückes ihren ganz eigenen Antwort auf den Umgang mit dem Thema Tod. \n\n\n\n \n\n\n\n\n\n\n\n„Schlafen Fische?“ wurde 2012 mit dem Mülheimer KinderStückePreis ausgezeichnet und ist mittlerweile in viele Sprachen übersetzt und bereits in 11 Ländern aufgeführt worden. \n\n\n\nIm Anschluss an das Theaterstück besteht die Möglichkeit\, mit den Ausführenden ins Gespräch zu kommen. \n\n\n\n\n\n\n\n \n\n\n\n\n\nEintritt Vorverkauf:  \n\n\n\nErwachsene: 8\,00 € \n\n\n\nKinder: 6\,00 € \n\n\n\n\n\nEintritt Abendkasse:  \n\n\n\nErwachsene: 10\,00 € \n\n\n\nKinder: 8\,00 € \n\n\n\n\n\n\n\n\n\nVorverkaufsstellen:  \n\n\n\nHospiz-Bewegung Lüdinghausen/ Seppenrade e.V.\, Burgstr. 3\, dienstags und freitags von 9:30 Uhr-12:00 Uhr oder Tel.: 0160 2611171 \n\n\n\nwww.hospizbewegung-lh.de \n\n\n\n\n\n\n\nLüdinghausen Marketing u. Tourismus\, Borg 4\, Tel.: 02591-78008 \n\n\n\nwww.lhmarketing.de/
URL:https://kofferweltentheater.de/terminkalender/schlafen-fische-5/
LOCATION:Sekundarschule Lüdingshausen\, Tüllinghofer Straße 25\, 59348 Lüdinghausen\, Deutschland
END:VEVENT
END:VCALENDAR