BEGIN:VCALENDAR
VERSION:2.0
PRODID:-//Kofferweltentheater - ECPv6.15.20//NONSGML v1.0//EN
CALSCALE:GREGORIAN
METHOD:PUBLISH
X-WR-CALNAME:Kofferweltentheater
X-ORIGINAL-URL:https://kofferweltentheater.de
X-WR-CALDESC:Veranstaltungen für Kofferweltentheater
REFRESH-INTERVAL;VALUE=DURATION:PT1H
X-Robots-Tag:noindex
X-PUBLISHED-TTL:PT1H
BEGIN:VTIMEZONE
TZID:UTC
BEGIN:STANDARD
TZOFFSETFROM:+0000
TZOFFSETTO:+0000
TZNAME:UTC
DTSTART:20210101T000000
END:STANDARD
END:VTIMEZONE
BEGIN:VEVENT
DTSTART;TZID=UTC:20220723T160000
DTEND;TZID=UTC:20220723T180000
DTSTAMP:20260423T065441
CREATED:20220105T104113Z
LAST-MODIFIED:20220707T213220Z
UID:993-1658592000-1658599200@kofferweltentheater.de
SUMMARY:Schlafen Fische?
DESCRIPTION:„Pihttps://www.trauerland.org/2022/06/02/schlafen-fische-picknick-theater-bei-trauerland-fuer-kinder-ab-10-jahren/cknick Theater“ \n\n\n\n\n\n\nEin Theaterstück für Menschen ab 10 Jahren  \n\n\n\nJette ist gerade 10 Jahre alt geworden\, das nennt man zweistellig. Ein Jahr nach dem Tod ihres Bruders Emil\, erinnert sie sich zurück.Wie sind die Erwachsenen mit dem Tod des kleinen Emil umgegangen? \n\n\n\nWas bedeutet es überhaupt Tod zu sein und was passiert mit uns wenn wir Tod sind? \n\n\n\nJette wirft Fragen auf und findet im Laufe des Stückes ihren ganz eigenen Antwort auf den Umgang mit dem Thema Tod. \n\n\n\n \n\n\n\n\n\n\n\n„Schlafen Fische?“ wurde 2012 mit dem Mülheimer KinderStückePreis ausgezeichnet und ist mittlerweile in viele Sprachen übersetzt und bereits in 11 Ländern aufgeführt worden. \n\n\n\nIm Anschluss an das Theaterstück besteht die Möglichkeit\, mit den Ausführenden ins Gespräch zu kommen. \n\n\n\n \n\n\n\n\n\n\n\nGeplant ist die Veranstaltung als „Picknick Theater“ im Garten.  \n\n\n\nPicknickdecken sind gerne mitzubringen. Einlass ist 15 Uhr \n\n\n\n\n\n\n\nNähere Informationen unter:
URL:https://kofferweltentheater.de/terminkalender/schlafen-fische-3/
LOCATION:Trauerland – Zentrum für trauernde Kinder und Jugendliche e. V.\, Schwachhauser Heerstraße 268 a\, 28359 Bremen
ATTACH;FMTTYPE=image/png:https://kofferweltentheater.de/wp-content/uploads/2022/07/Picknick-Theater_Homepagebild.png
END:VEVENT
END:VCALENDAR